BEGIN:VCALENDAR
VERSION:2.0
PRODID:-//dhtmlXScheduler//NONSGML v2.2//EN
X-WR-CALNAME:Wydarzenia
BEGIN:VEVENT
DTSTART:20220510T111500
DTEND:20220510T130000
UID:1
SUMMARY:Wykład dr Javiera Vaquero Martínez
END:VEVENT
END:VCALENDAR